BEGIN:VCALENDAR
VERSION:2.0
PRODID:icalendar-ruby
CALSCALE:GREGORIAN
METHOD:PUBLISH
BEGIN:VEVENT
DTSTAMP:20260422T173803Z
UID:18-534349@islandchurchei.com
DTSTART:20261022T120000Z
DTEND:20261022T140000Z
CLASS:PUBLIC
CREATED:20260422T130839
DESCRIPTION:Come help us pack backpacks with food for local schook kids! Ev
 ery week we fill over 1\,000 backpacks. Come Be the Good in the World!\n(P
 lease park on the main road and walk to the warehouse)
LAST-MODIFIED:20260422T130839
LOCATION:109 Seth Thomas Ln\, Swansboro (behind Advanced Office Solutions)
SUMMARY:BackPack Friends
URL;VALUE=URI:https://www.islandchurchei.com/events/backpack-friends/2026-1
 0-22
ATTACH;FILENAME=Backpack-Friends-Ministry-Event.jpg;FMTTYPE=image/jpeg:http
 s://dq5pwpg1q8ru0.cloudfront.net/2025/03/19/18/51/00/4dbaea70-d611-4776-ac
 6e-b110c4acf84e/Backpack-Friends-Ministry-Event.jpg
END:VEVENT
END:VCALENDAR
